BEGIN:VCALENDAR
VERSION:2.0
CALSCALE:GREGORIAN
METHOD:PUBLISH
PRODID://MCST//42607
BEGIN:VEVENT
DTSTAMP:20260425T113048
VTIMEZONE:America/New_York
DTSTART:20180625T040000Z
DTEND:20180629T040000Z
UID:42607
SUMMARY:AM Practice 7:45-9am 13+, 9-10am 9-12, 10-10:45am 8 and under
LOCATION:, McLean, VA, 22101
DESCRIPTION:AM Practice 7:45-9am 13+, 9-10am 9-12, 10-10:45am 8 and under\n\n06/25/18 07:00 PM EST\n - 06/29/18 07:00 PM EST\Location:\n\n\nMcLean, VA 22101
X-ALT-DESC;FMTTYPE=text/html:AM Practice 7:45-9am 13+, 9-10am 9-12, 10-10:45am 8 and under<br /><br />06/25/18 07:00 PM EST - 06/29/18 07:00 PM EST<br />Location:<br /><br /><br />McLean, VA 22101
PRIORITY:3
TRANSP:TRANSPARENT
BEGIN:VALARM
TRIGGER:-PT5M
ACTION:DISPLAY
DESCRIPTION:Reminder
END:VALARM
END:VEVENT
END:VCALENDAR
