BEGIN:VCALENDAR
VERSION:2.0
CALSCALE:GREGORIAN
METHOD:PUBLISH
PRODID://MCST//42611
BEGIN:VEVENT
DTSTAMP:20260425T113158
VTIMEZONE:America/New_York
DTSTART:20180723T040000Z
DTEND:20180724T040000Z
UID:42611
SUMMARY:AM Practice 7:45-9am 13+, 9-10am 9-12, 10-10:45am 8 and under
LOCATION:, McLean, VA, 22101
DESCRIPTION:AM Practice 7:45-9am 13+, 9-10am 9-12, 10-10:45am 8 and under\n\n07/23/18 07:00 PM EST\n - 07/24/18 07:00 PM EST\Location:\n\n\nMcLean, VA 22101
X-ALT-DESC;FMTTYPE=text/html:AM Practice 7:45-9am 13+, 9-10am 9-12, 10-10:45am 8 and under<br /><br />07/23/18 07:00 PM EST - 07/24/18 07:00 PM EST<br />Location:<br /><br /><br />McLean, VA 22101
PRIORITY:3
TRANSP:TRANSPARENT
BEGIN:VALARM
TRIGGER:-PT5M
ACTION:DISPLAY
DESCRIPTION:Reminder
END:VALARM
END:VEVENT
END:VCALENDAR
